BEGIN:VCALENDAR
VERSION:2.0
PRODID:-//Trinity - ECPv6.15.4//NONSGML v1.0//EN
CALSCALE:GREGORIAN
METHOD:PUBLISH
X-WR-CALNAME:Trinity
X-ORIGINAL-URL:https://trinitybaltimore.church
X-WR-CALDESC:Events for Trinity
REFRESH-INTERVAL;VALUE=DURATION:PT1H
X-Robots-Tag:noindex
X-PUBLISHED-TTL:PT1H
BEGIN:VTIMEZONE
TZID:UTC
BEGIN:STANDARD
TZOFFSETFROM:+0000
TZOFFSETTO:+0000
TZNAME:UTC
DTSTART:20260101T000000
END:STANDARD
END:VTIMEZONE
BEGIN:VEVENT
DTSTART;TZID=UTC:20260129T080000
DTEND;TZID=UTC:20260527T170000
DTSTAMP:20260413T091342
CREATED:20260129T165826Z
LAST-MODIFIED:20260129T165826Z
UID:2460-1769673600-1779901200@trinitybaltimore.church
SUMMARY:TRINITY GROUPS
DESCRIPTION:FEB-MAY: Trinity Groups! \nGroups Spring Semester is Feb-May 27. Get connected\, find your group\, and start your journey of spiritual growth! \nFIND YOUR GROUP
URL:https://trinitybaltimore.church/event/trinity-groups-2/
ATTACH;FMTTYPE=image/jpeg:https://trinitybaltimore.church/wp-content/uploads/2026/01/image-3.jpeg
END:VEVENT
BEGIN:VEVENT
DTSTART;VALUE=DATE:20260503
DTEND;VALUE=DATE:20260601
DTSTAMP:20260413T091342
CREATED:20260409T153418Z
LAST-MODIFIED:20260409T153418Z
UID:2529-1777766400-1780271999@trinitybaltimore.church
SUMMARY:GROWTH TRACK
DESCRIPTION:MAY 3: Growth Track is Back! \nGrowth Track is your pathway into Freedom\, Membership\, Discipleship\, and Serving! This February\, come to Room 300A in the BAC from 9-10AM\, as we walk through the Growth Track booklet. We will honor your time and provide snacks and childcare. Please let us know when you register if you need childcare. \nSIGN UP HERE
URL:https://trinitybaltimore.church/event/growth-track-3/
ATTACH;FMTTYPE=image/png:https://trinitybaltimore.church/wp-content/uploads/2026/04/image.png
END:VEVENT
BEGIN:VEVENT
DTSTART;TZID=UTC:20260506T190000
DTEND;TZID=UTC:20260506T203000
DTSTAMP:20260413T091342
CREATED:20260409T153704Z
LAST-MODIFIED:20260409T153704Z
UID:2532-1778094000-1778099400@trinitybaltimore.church
SUMMARY:MEAL WITH A MISSIONARY
DESCRIPTION:MAY 6: Meal with a Missionary \nWe are so excited for a special Wednesday Night event for all ages on Wednesday\, May 6th. Ken and Ashley Hetland have been serving unreached people in Vietnam. \n7:00-7:30PM Dinner for all ages\, Suggested Donation of $5 per person. \nTrinityKids will learn Vietnam facts and words with “Toby the Taper!”\, then be dismissed to the Preschool room for a large group activity. \n7:30-8:15PM Missionaries will share in the BAC\, while TrinityKids have their own breakout. \nSIGN UP HERE
URL:https://trinitybaltimore.church/event/meal-with-a-missionary/
ATTACH;FMTTYPE=image/png:https://trinitybaltimore.church/wp-content/uploads/2026/04/image-1.png
END:VEVENT
END:VCALENDAR